BEGIN:VCALENDAR
VERSION:2.0
PRODID:-//wp-events-plugin.com//7.2.3.1//EN
TZID:Europe/Brussels
X-WR-TIMEZONE:Europe/Brussels
BEGIN:VEVENT
UID:254@muddevils.be
DTSTART;TZID=Europe/Brussels:20260315T083000
DTEND;TZID=Europe/Brussels:20260315T120000
DTSTAMP:20260302T085443Z
URL:https://muddevils.be/events/wegrit-lier-met-koffiepauze-bijeen-kb0830u
 /
SUMMARY:Wegrit Lier met koffiepauze bijeen kb08:30u
DESCRIPTION:Wegrit Lier met koffiepauze aan zimmertoren\n\nbijern kb 08:30u
CATEGORIES:Toertocht
LOCATION:De Cuytegemhoeve | Kuitegemstraat 61 - 2890 Puurs-Sint-Amands (Ant
 werpen)
X-APPLE-STRUCTURED-LOCATION;VALUE=URI;X-ADDRESS=Kuitegemstraat 61\, Puurs-S
 int-Amands\, Antwerpen\, 2890\, België;X-APPLE-RADIUS=100;X-TITLE=De Cuyt
 egemhoeve:geo:0,0
END:VEVENT
BEGIN:VTIMEZONE
TZID:Europe/Brussels
X-LIC-LOCATION:Europe/Brussels
BEGIN:STANDARD
DTSTART:20251026T020000
TZOFFSETFROM:+0200
TZOFFSETTO:+0100
TZNAME:CET
END:STANDARD
END:VTIMEZONE
END:VCALENDAR